BEGIN:VCALENDAR
VERSION:2.0
PRODID:-//La Masca - ECPv6.15.12.2//NONSGML v1.0//EN
CALSCALE:GREGORIAN
METHOD:PUBLISH
X-WR-CALNAME:La Masca
X-ORIGINAL-URL:https://lamasca.fr
X-WR-CALDESC:Évènements pour La Masca
REFRESH-INTERVAL;VALUE=DURATION:PT1H
X-Robots-Tag:noindex
X-PUBLISHED-TTL:PT1H
BEGIN:VTIMEZONE
TZID:Europe/Paris
BEGIN:DAYLIGHT
TZOFFSETFROM:+0100
TZOFFSETTO:+0200
TZNAME:CEST
DTSTART:20250330T010000
END:DAYLIGHT
BEGIN:STANDARD
TZOFFSETFROM:+0200
TZOFFSETTO:+0100
TZNAME:CET
DTSTART:20251026T010000
END:STANDARD
BEGIN:DAYLIGHT
TZOFFSETFROM:+0100
TZOFFSETTO:+0200
TZNAME:CEST
DTSTART:20260329T010000
END:DAYLIGHT
BEGIN:STANDARD
TZOFFSETFROM:+0200
TZOFFSETTO:+0100
TZNAME:CET
DTSTART:20261025T010000
END:STANDARD
BEGIN:DAYLIGHT
TZOFFSETFROM:+0100
TZOFFSETTO:+0200
TZNAME:CEST
DTSTART:20270328T010000
END:DAYLIGHT
BEGIN:STANDARD
TZOFFSETFROM:+0200
TZOFFSETTO:+0100
TZNAME:CET
DTSTART:20271031T010000
END:STANDARD
END:VTIMEZONE
BEGIN:VEVENT
DTSTART;TZID=Europe/Paris:20260508T080000
DTEND;TZID=Europe/Paris:20260508T163000
DTSTAMP:20260423T220358
CREATED:20260415T103204Z
LAST-MODIFIED:20260415T103204Z
UID:2815-1778227200-1778257800@lamasca.fr
SUMMARY:Foire de Printemps - Ferrals-les-Montagnes (34)
DESCRIPTION:Plants potagers et fruitiers\, pains\, vins\, bières\, fromages\, frites et assiette paysanne – mais aussi plein d’artisans avec de magnifiques créations. Et toujours en musique !
URL:https://lamasca.fr/event/foire-ferrals/
LOCATION:Ferral-les-montagnes (34)
END:VEVENT
BEGIN:VEVENT
DTSTART;TZID=Europe/Paris:20260509T080000
DTEND;TZID=Europe/Paris:20260510T170000
DTSTAMP:20260423T220358
CREATED:20260415T104406Z
LAST-MODIFIED:20260415T104432Z
UID:2817-1778313600-1778432400@lamasca.fr
SUMMARY:Foire de Printemps - Castres (81)
DESCRIPTION:C’est un espace de rêve aux multiples couleurs qui s’ouvre à tous les jardiniers\, qu’ils soient expérimentés ou néophytes. Parc de Gourjade ou au jardin du Mail\, le long des allées\, près d’une quarantaine d’exposants proposent tout le nécessaire pour embellir parterres\, jardins ou balcons : plantes et fleurs de saison\, arbustes\, légumes… \n  \n \n 
URL:https://lamasca.fr/event/foire-de-printemps-castres-2026/
LOCATION:Castres (81)
END:VEVENT
END:VCALENDAR