BEGIN:VCALENDAR
VERSION:2.0
PRODID:-//La Masca - ECPv6.15.12.2//NONSGML v1.0//EN
CALSCALE:GREGORIAN
METHOD:PUBLISH
X-WR-CALNAME:La Masca
X-ORIGINAL-URL:https://lamasca.fr
X-WR-CALDESC:Évènements pour La Masca
REFRESH-INTERVAL;VALUE=DURATION:PT1H
X-Robots-Tag:noindex
X-PUBLISHED-TTL:PT1H
BEGIN:VTIMEZONE
TZID:Europe/Paris
BEGIN:DAYLIGHT
TZOFFSETFROM:+0100
TZOFFSETTO:+0200
TZNAME:CEST
DTSTART:20240331T010000
END:DAYLIGHT
BEGIN:STANDARD
TZOFFSETFROM:+0200
TZOFFSETTO:+0100
TZNAME:CET
DTSTART:20241027T010000
END:STANDARD
BEGIN:DAYLIGHT
TZOFFSETFROM:+0100
TZOFFSETTO:+0200
TZNAME:CEST
DTSTART:20250330T010000
END:DAYLIGHT
BEGIN:STANDARD
TZOFFSETFROM:+0200
TZOFFSETTO:+0100
TZNAME:CET
DTSTART:20251026T010000
END:STANDARD
BEGIN:DAYLIGHT
TZOFFSETFROM:+0100
TZOFFSETTO:+0200
TZNAME:CEST
DTSTART:20260329T010000
END:DAYLIGHT
BEGIN:STANDARD
TZOFFSETFROM:+0200
TZOFFSETTO:+0100
TZNAME:CET
DTSTART:20261025T010000
END:STANDARD
END:VTIMEZONE
BEGIN:VEVENT
DTSTART;TZID=Europe/Paris:20250501T100000
DTEND;TZID=Europe/Paris:20250504T233000
DTSTAMP:20260424T110831
CREATED:20250422T151958Z
LAST-MODIFIED:20250422T154826Z
UID:2199-1746093600-1746401400@lamasca.fr
SUMMARY:Festival Echos et Merveilles
DESCRIPTION:Le Festival Échos & Merveilles 2025 célèbre sa 7ᵉ édition du 30 avril au 4 mai à Bruguières\, près de Toulouse\, sur le site du Bascala et son parc de 5 hectares . Cet événement unique en France est dédié aux cultures de l’imaginaire\, aux mondes fantastiques et à la médiévalité\, offrant cinq jours de fête et de découvertes pour toute la famille.​Concerts Metal+11echosetmerveilles.com+11echosetmerveilles.com+11spectacles.le-bascala.com+2echosetmerveilles.com+2echosetmerveilles.com+2 \n🎶 Programmation musicale\nTrois scènes accueilleront des artistes de renom dans les genres celtique\, pagan folk et nordique. Parmi les têtes d’affiche :​echosetmerveilles.com+1echosetmerveilles.com+1 \n\n\nBear McCreary \n\n\nFaun \n\n\nKalandra \n\n\nWind Rose \n\n\nD’Artagnan \n\n\nMyrkur \n\n\nThe Trouble Notes \n\n\nDeloraine \n\n\nEihwar \n\n\nCécile Corbel \n\n\nNeko Light Orchestra \n\n\nLuneris (le 2 mai) ​echosetmerveilles.com+3Songkick+3Songkick+3Songkick+12echosetmerveilles.com+12echosetmerveilles.com+12Songkick+4echosetmerveilles.com+4echosetmerveilles.com+4spectacles.le-bascala.com+2echosetmerveilles.com+2echosetmerveilles.com+2Bandsintown+1Shazam+1 \n\n\n🧙‍♂️ Ambiance et animations\nLe festival propose une immersion totale dans un univers féerique avec :​echosetmerveilles.com+1echosetmerveilles.com+1 \n\n\nUn marché artisanal réunissant 150 artisans venus de toute la France \n\n\n20 restaurateurs proposant une variété de mets \n\n\nDes dizaines de troupes d’animation professionnelles \n\n\nUn immense salon du livre de l’imaginaire avec une centaine d’auteurs et illustrateurs \n\n\nDes activités variées : initiations\, reconstitutions historiques\, grandeur nature\, troll ball\, jeux… echosetmerveilles.com​ \n\n\n🎟️ Informations pratiques\n\n\nDates : du 30 avril au 4 mai 2025 \n\n\nLieu : Le Bascala\, 12 Rue de la Briqueterie\, Bruguières \n\n\nBilletterie : Certains billets sont déjà épuisés\, notamment pour les concerts du soir des 30 avril et 1ᵉʳ au 3 mai Festik​ \n\n\nPour plus d’informations et pour réserver vos billets\, rendez-vous sur le site officiel du festival : echosetmerveilles.com.​ \nhttps://youtu.be/DlgYjFMNxjU
URL:https://lamasca.fr/event/festival-echos-et-merveilles/
LOCATION:Bruguière (31)
ORGANIZER;CN="Echos et Merveilles":MAILTO:contact.echosetmerveilles@gmail.com
END:VEVENT
BEGIN:VEVENT
DTSTART;TZID=Europe/Paris:20250508T090000
DTEND;TZID=Europe/Paris:20250508T160000
DTSTAMP:20260424T110831
CREATED:20250422T152341Z
LAST-MODIFIED:20250422T152341Z
UID:2202-1746694800-1746720000@lamasca.fr
SUMMARY:Foire de Printemps - Ferrals-les-Montagnes
DESCRIPTION:La traditionnelle foire de printemps de Ferrals-les-Montagnes auras lieu ce 8 Mais au Plô de L’église . \nRetrouvez les artisans et protecteurs de la régions dans un ambiance conviviale. \n 
URL:https://lamasca.fr/event/foire-de-printemps-ferrals-les-montagnes/
LOCATION:Ferral-les-montagnes (34)
END:VEVENT
BEGIN:VEVENT
DTSTART;TZID=Europe/Paris:20250510T080000
DTEND;TZID=Europe/Paris:20250511T170000
DTSTAMP:20260424T110831
CREATED:20250422T153149Z
LAST-MODIFIED:20250422T153149Z
UID:2204-1746864000-1746982800@lamasca.fr
SUMMARY:Les Journées aux Fleurs - Castres
DESCRIPTION:Le traditionnel marchés aux fleurs avec des professionnels à la mains vertes et des artisans naturels !
URL:https://lamasca.fr/event/les-journees-aux-fleurs-castres/
LOCATION:Castres (81)
END:VEVENT
BEGIN:VEVENT
DTSTART;TZID=Europe/Paris:20250524T100000
DTEND;TZID=Europe/Paris:20250524T180000
DTSTAMP:20260424T110831
CREATED:20250422T153638Z
LAST-MODIFIED:20250422T153712Z
UID:2209-1748080800-1748109600@lamasca.fr
SUMMARY:Marché Nature et Printemps - Névian
DESCRIPTION:Rencontrez les artisans/créateurs passionnés\, découvrez des produits authentiques.\nRestauration sur Place-Food Truck / Bistrot VillageRetransmission du match à 15h45 – Chez Franck Coté Village\nTombola – Animations
URL:https://lamasca.fr/event/marche-nature-et-printemps-nevian/
LOCATION:Névian (11)\, place de l'église\, Névian\, 11200
ORGANIZER;CN="N%C3%A9vi'Art":MAILTO:Neviart11@gmail.com
END:VEVENT
END:VCALENDAR