BEGIN:VCALENDAR
VERSION:2.0
PRODID:-//La Masca - ECPv6.15.12.2//NONSGML v1.0//EN
CALSCALE:GREGORIAN
METHOD:PUBLISH
X-ORIGINAL-URL:https://lamasca.fr
X-WR-CALDESC:Évènements pour La Masca
REFRESH-INTERVAL;VALUE=DURATION:PT1H
X-Robots-Tag:noindex
X-PUBLISHED-TTL:PT1H
BEGIN:VTIMEZONE
TZID:Europe/Paris
BEGIN:DAYLIGHT
TZOFFSETFROM:+0100
TZOFFSETTO:+0200
TZNAME:CEST
DTSTART:20250330T010000
END:DAYLIGHT
BEGIN:STANDARD
TZOFFSETFROM:+0200
TZOFFSETTO:+0100
TZNAME:CET
DTSTART:20251026T010000
END:STANDARD
BEGIN:DAYLIGHT
TZOFFSETFROM:+0100
TZOFFSETTO:+0200
TZNAME:CEST
DTSTART:20260329T010000
END:DAYLIGHT
BEGIN:STANDARD
TZOFFSETFROM:+0200
TZOFFSETTO:+0100
TZNAME:CET
DTSTART:20261025T010000
END:STANDARD
BEGIN:DAYLIGHT
TZOFFSETFROM:+0100
TZOFFSETTO:+0200
TZNAME:CEST
DTSTART:20270328T010000
END:DAYLIGHT
BEGIN:STANDARD
TZOFFSETFROM:+0200
TZOFFSETTO:+0100
TZNAME:CET
DTSTART:20271031T010000
END:STANDARD
END:VTIMEZONE
BEGIN:VEVENT
DTSTART;TZID=Europe/Paris:20260703T080000
DTEND;TZID=Europe/Paris:20260705T170000
DTSTAMP:20260424T005648
CREATED:20260227T193840Z
LAST-MODIFIED:20260227T193840Z
UID:2803-1783065600-1783270800@lamasca.fr
SUMMARY:Magic Odyssey - La Souterraine (23)
DESCRIPTION:Oubliez les conventions classiques aux 3 posters et stands posés au hasard.\nMagic Odyssey est un concept totalement nouveau : un festival immersif qui mélange compétition\, culture et aventure dans un cadre exceptionnel.\nPendant 3 jours\, plongez dans :\nSpectacles vivants et performances immersives\, pensés comme de véritables shows.\nTournois de jeux vidéo e-sport pour tous les passionnés.\nCompétitions de cartes mythiques (Magic: The Gathering\, Yu-Gi-Oh! et bien d’autres).\nGrand Tournoi Cosplay\, où chaque prestation devient une scène de théâtre.\nDécouverte de lieux historiques\, transformés en décors épiques.\nJeux de rôle immersifs\, où vous incarnez votre propre héros dans des quêtes grandeur nature.\nRécompense ultime : un voyage au Japon à gagner\, berceau de l’imaginaire moderne et des univers qui nous inspirent.
URL:https://lamasca.fr/event/magic-odyssey-la-souterraine-23/
LOCATION:La Souterraine (23)
END:VEVENT
END:VCALENDAR