BEGIN:VCALENDAR
VERSION:2.0
PRODID:-//La Masca - ECPv6.15.12.2//NONSGML v1.0//EN
CALSCALE:GREGORIAN
METHOD:PUBLISH
X-ORIGINAL-URL:https://lamasca.fr
X-WR-CALDESC:Évènements pour La Masca
REFRESH-INTERVAL;VALUE=DURATION:PT1H
X-Robots-Tag:noindex
X-PUBLISHED-TTL:PT1H
BEGIN:VTIMEZONE
TZID:Europe/Paris
BEGIN:DAYLIGHT
TZOFFSETFROM:+0100
TZOFFSETTO:+0200
TZNAME:CEST
DTSTART:20250330T010000
END:DAYLIGHT
BEGIN:STANDARD
TZOFFSETFROM:+0200
TZOFFSETTO:+0100
TZNAME:CET
DTSTART:20251026T010000
END:STANDARD
BEGIN:DAYLIGHT
TZOFFSETFROM:+0100
TZOFFSETTO:+0200
TZNAME:CEST
DTSTART:20260329T010000
END:DAYLIGHT
BEGIN:STANDARD
TZOFFSETFROM:+0200
TZOFFSETTO:+0100
TZNAME:CET
DTSTART:20261025T010000
END:STANDARD
BEGIN:DAYLIGHT
TZOFFSETFROM:+0100
TZOFFSETTO:+0200
TZNAME:CEST
DTSTART:20270328T010000
END:DAYLIGHT
BEGIN:STANDARD
TZOFFSETFROM:+0200
TZOFFSETTO:+0100
TZNAME:CET
DTSTART:20271031T010000
END:STANDARD
END:VTIMEZONE
BEGIN:VEVENT
DTSTART;TZID=Europe/Paris:20260605T080000
DTEND;TZID=Europe/Paris:20260607T170000
DTSTAMP:20260424T021426
CREATED:20260227T192141Z
LAST-MODIFIED:20260227T192141Z
UID:2800-1780646400-1780851600@lamasca.fr
SUMMARY:Il était autrefois Carmaux (81)
DESCRIPTION: 
URL:https://lamasca.fr/event/il-etait-autrefois-carmaux-81/
LOCATION:Carmaux (81)\, parc Jean Jaures\, Carmaux
END:VEVENT
BEGIN:VEVENT
DTSTART;VALUE=DATE:20260606
DTEND;VALUE=DATE:20260607
DTSTAMP:20260424T021426
CREATED:20260227T191554Z
LAST-MODIFIED:20260227T191554Z
UID:2797-1780704000-1780790399@lamasca.fr
SUMMARY:Foire de la Salvetat-sur-Agout (34)
DESCRIPTION:
URL:https://lamasca.fr/event/foire-de-la-salvetat-sur-agout-34/
LOCATION:La Salvetat-sr-Agout 34)
END:VEVENT
END:VCALENDAR