BEGIN:VCALENDAR
VERSION:2.0
PRODID:-//La Masca - ECPv6.15.12.2//NONSGML v1.0//EN
CALSCALE:GREGORIAN
METHOD:PUBLISH
X-ORIGINAL-URL:https://lamasca.fr
X-WR-CALDESC:Évènements pour La Masca
REFRESH-INTERVAL;VALUE=DURATION:PT1H
X-Robots-Tag:noindex
X-PUBLISHED-TTL:PT1H
BEGIN:VTIMEZONE
TZID:Europe/Paris
BEGIN:DAYLIGHT
TZOFFSETFROM:+0100
TZOFFSETTO:+0200
TZNAME:CEST
DTSTART:20240331T010000
END:DAYLIGHT
BEGIN:STANDARD
TZOFFSETFROM:+0200
TZOFFSETTO:+0100
TZNAME:CET
DTSTART:20241027T010000
END:STANDARD
BEGIN:DAYLIGHT
TZOFFSETFROM:+0100
TZOFFSETTO:+0200
TZNAME:CEST
DTSTART:20250330T010000
END:DAYLIGHT
BEGIN:STANDARD
TZOFFSETFROM:+0200
TZOFFSETTO:+0100
TZNAME:CET
DTSTART:20251026T010000
END:STANDARD
BEGIN:DAYLIGHT
TZOFFSETFROM:+0100
TZOFFSETTO:+0200
TZNAME:CEST
DTSTART:20260329T010000
END:DAYLIGHT
BEGIN:STANDARD
TZOFFSETFROM:+0200
TZOFFSETTO:+0100
TZNAME:CET
DTSTART:20261025T010000
END:STANDARD
END:VTIMEZONE
BEGIN:VEVENT
DTSTART;VALUE=DATE:20251004
DTEND;VALUE=DATE:20251006
DTSTAMP:20260424T070552
CREATED:20250805T141031Z
LAST-MODIFIED:20250805T141031Z
UID:2466-1759536000-1759708799@lamasca.fr
SUMMARY:Aicontis - Marcillac la Croze (19)
DESCRIPTION:Festival du Fantastique et de l’Imaginaire\n10e édition : 4&5 octobre 2025\nPlongez dans l’univers des contes et légendes \nCette année\, cap 𝐬𝐮𝐫 𝐥𝐞𝐬 𝐓𝐞𝐫𝐫𝐞𝐬 𝐝𝐮 𝐅𝐞𝐮 𝐅𝐨𝐥𝐥𝐞𝐭 : un monde à la lisière du réel\, où la lumière vacille\, les chemins se dérobent\, et les créatures apparaissent sans prévenir. 🔥\nC’est dans cette atmosphère changeante\, curieuse et joyeusement imprévisible que s’ancrera cette édition-anniversaire. Au programme : 𝐬𝐚𝐥𝐨𝐧 𝐝𝐮 𝐥𝐢𝐯𝐫𝐞\, 𝐝𝐞́𝐚𝐦𝐛𝐮𝐥𝐚𝐭𝐢𝐨𝐧𝐬\, 𝐜𝐨𝐧𝐜𝐞𝐫𝐭𝐬\, 𝐞𝐱𝐩𝐨𝐬𝐢𝐭𝐢𝐨𝐧𝐬\, 𝐦𝐚𝐫𝐜𝐡𝐞́ 𝐟𝐚𝐧𝐭𝐚𝐬𝐭𝐢𝐪𝐮𝐞𝐬\, 𝐚𝐧𝐢𝐦𝐚𝐭𝐢𝐨𝐧𝐬\, 𝐞𝐭 𝐩𝐥𝐮𝐬.\nTout un village transformé pour célébrer l’imaginaire sous toutes ses formes.
URL:https://lamasca.fr/event/aicontis-marcillac-la-croze-19/
LOCATION:Marcillac la Coze (19)
END:VEVENT
END:VCALENDAR