BEGIN:VCALENDAR
VERSION:2.0
PRODID:-//La Masca - ECPv6.15.12.2//NONSGML v1.0//EN
CALSCALE:GREGORIAN
METHOD:PUBLISH
X-ORIGINAL-URL:https://lamasca.fr
X-WR-CALDESC:Évènements pour La Masca
REFRESH-INTERVAL;VALUE=DURATION:PT1H
X-Robots-Tag:noindex
X-PUBLISHED-TTL:PT1H
BEGIN:VTIMEZONE
TZID:Europe/Paris
BEGIN:DAYLIGHT
TZOFFSETFROM:+0100
TZOFFSETTO:+0200
TZNAME:CEST
DTSTART:20240331T010000
END:DAYLIGHT
BEGIN:STANDARD
TZOFFSETFROM:+0200
TZOFFSETTO:+0100
TZNAME:CET
DTSTART:20241027T010000
END:STANDARD
BEGIN:DAYLIGHT
TZOFFSETFROM:+0100
TZOFFSETTO:+0200
TZNAME:CEST
DTSTART:20250330T010000
END:DAYLIGHT
BEGIN:STANDARD
TZOFFSETFROM:+0200
TZOFFSETTO:+0100
TZNAME:CET
DTSTART:20251026T010000
END:STANDARD
BEGIN:DAYLIGHT
TZOFFSETFROM:+0100
TZOFFSETTO:+0200
TZNAME:CEST
DTSTART:20260329T010000
END:DAYLIGHT
BEGIN:STANDARD
TZOFFSETFROM:+0200
TZOFFSETTO:+0100
TZNAME:CET
DTSTART:20261025T010000
END:STANDARD
END:VTIMEZONE
BEGIN:VEVENT
DTSTART;VALUE=DATE:20250906
DTEND;VALUE=DATE:20250908
DTSTAMP:20260424T070639
CREATED:20250805T135103Z
LAST-MODIFIED:20250805T135211Z
UID:2455-1757116800-1757289599@lamasca.fr
SUMMARY:Festival Yggdrasil Fort-Fort-Lointain - Lyon (69)
DESCRIPTION:J’ai le plaisir de faire partie de l’aventure 2025 ! \n\n\nLe 6 et 7 Septembre à l’hippodrome de Parilly\n\n\n\n\nPlongez avec nous au coeur des mondes de l’imaginaire !\n\n\n\n\nIl était une fois… vous. Oui\, vous\, héros ou héroïne d’un jour\, fraîchement débarqué·e dans un royaume pas comme les autres. Ici\, les fées dansent avec les trolls\, les dragons font la sieste au soleil\, et les contes de fées ont décidé de prendre quelques libertés avec le script. \nPour ses 10 ans\, le monde d’Yggdrasil renoue avec ses racines et avec ce qui l’a fait naître : un hommage vibrant et déjanté au médiéval fantasy\, ce merveilleux mélange d’imaginaire\, de magie\, d’humour et d’aventures. \nPréparez vos plus belles cottes de mailles\, vos oreilles pointues\, ou venez comme vous êtes : l’important\, c’est de rêver fort fort !
URL:https://lamasca.fr/event/festival-yggdrasil-fort-fort-lointain-lyon-69/
LOCATION:Hippodrome de Parilly (69)\, 4 Avenue Pierre Mendès France\, Bron\, 69500
END:VEVENT
END:VCALENDAR