BEGIN:VCALENDAR
VERSION:2.0
PRODID:-//La Masca - ECPv6.15.12.2//NONSGML v1.0//EN
CALSCALE:GREGORIAN
METHOD:PUBLISH
X-ORIGINAL-URL:https://lamasca.fr
X-WR-CALDESC:Évènements pour La Masca
REFRESH-INTERVAL;VALUE=DURATION:PT1H
X-Robots-Tag:noindex
X-PUBLISHED-TTL:PT1H
BEGIN:VTIMEZONE
TZID:Europe/Paris
BEGIN:DAYLIGHT
TZOFFSETFROM:+0100
TZOFFSETTO:+0200
TZNAME:CEST
DTSTART:20240331T010000
END:DAYLIGHT
BEGIN:STANDARD
TZOFFSETFROM:+0200
TZOFFSETTO:+0100
TZNAME:CET
DTSTART:20241027T010000
END:STANDARD
BEGIN:DAYLIGHT
TZOFFSETFROM:+0100
TZOFFSETTO:+0200
TZNAME:CEST
DTSTART:20250330T010000
END:DAYLIGHT
BEGIN:STANDARD
TZOFFSETFROM:+0200
TZOFFSETTO:+0100
TZNAME:CET
DTSTART:20251026T010000
END:STANDARD
BEGIN:DAYLIGHT
TZOFFSETFROM:+0100
TZOFFSETTO:+0200
TZNAME:CEST
DTSTART:20260329T010000
END:DAYLIGHT
BEGIN:STANDARD
TZOFFSETFROM:+0200
TZOFFSETTO:+0100
TZNAME:CET
DTSTART:20261025T010000
END:STANDARD
END:VTIMEZONE
BEGIN:VEVENT
DTSTART;TZID=Europe/Paris:20250628T093000
DTEND;TZID=Europe/Paris:20250629T180000
DTSTAMP:20260424T110843
CREATED:20250422T160857Z
LAST-MODIFIED:20250422T160857Z
UID:2230-1751103000-1751220000@lamasca.fr
SUMMARY:Festival écossais 1782 - St Andiol (13)
DESCRIPTION:Les 28 et 29 juin 2025\, le château de Saint-Andiol accueillera une nouvelle édition du Festival Écossais 1782\, un événement unique dédié à la mise en valeur des liens historiques et culturels entre la France et l’Écosse. \nCe festival s’inscrit dans une démarche de transmission du patrimoine\, en offrant au public une immersion vivante à travers les arts du spectacle\, la musique\, le sport\, la danse\, l’artisanat et bien d’autres animations inedites. \nLe Festival Écossais 1782 ne se limite pas à une reconstitution historique : il constitue un véritable projet de médiation culturelle où chaque spectacle\, atelier et conférence est conçu pour éduquer autant qu’émerveiller. C’est une occasion unique de découvrir une culture vivante\, accessible à tous les publics\, qu’ils soient passionnés d’histoire\, amateurs d’arts ou simples curieux. \n📢 Un rendez-vous incontournable pour les passionnés de culture et d’histoire ! \n  \n 
URL:https://lamasca.fr/event/festival-ecossais-1782-st-andiol-13/
LOCATION:Château de St Andiol (12)\, Saint Andiol\, 13670
ORGANIZER;CN="Festival Ecossais 1782":MAILTO:asso.soay@gmail.com
END:VEVENT
END:VCALENDAR